BEGIN:VCALENDAR
VERSION:2.0
PRODID:www.tlu.ee
X-PUBLISHED-TTL:P1W
BEGIN:VEVENT
UID:69eaa27635703
DTSTART:20241107T103000Z
SEQUENCE:0
TRANSP:OPAQUE
DTEND:20241107T140000Z
SUMMARY:TLÜ koosõppimise päev \"Tehisaru kasutamine teaduses\"
CLASS:PUBLIC
DTSTAMP:20260424T015134Z
END:VEVENT
END:VCALENDAR