BEGIN:VCALENDAR
VERSION:2.0
PRODID:www.tlu.ee
X-PUBLISHED-TTL:P1W
BEGIN:VEVENT
UID:69e765f283940
DTSTART:20250619T070000Z
SEQUENCE:0
TRANSP:OPAQUE
DTEND:20250619T110000Z
SUMMARY:Digitehnoloogiate instituudi lõpuaktused 2025
CLASS:PUBLIC
DTSTAMP:20260421T145634Z
END:VEVENT
END:VCALENDAR