BEGIN:VCALENDAR
VERSION:2.0
PRODID:www.tlu.ee
X-PUBLISHED-TTL:P1W
BEGIN:VEVENT
UID:69e751502df9d
DTSTART:20250425T073000Z
SEQUENCE:0
TRANSP:OPAQUE
DTEND:20250425T130000Z
SUMMARY:Töömaailm koolis – võimalused ja vastuolud
CLASS:PUBLIC
DTSTAMP:20260421T132832Z
END:VEVENT
END:VCALENDAR