BEGIN:VCALENDAR
VERSION:2.0
PRODID:www.tlu.ee
X-PUBLISHED-TTL:P1W
BEGIN:VEVENT
UID:69e7914736dbc
DTSTART:20250821T070000Z
SEQUENCE:0
TRANSP:OPAQUE
DTEND:20250822T150000Z
SUMMARY:Eesti filosoofia aastakonverents
CLASS:PUBLIC
DTSTAMP:20260421T180127Z
END:VEVENT
END:VCALENDAR