BEGIN:VCALENDAR
VERSION:2.0
PRODID:www.tlu.ee
X-PUBLISHED-TTL:P1W
BEGIN:VEVENT
UID:69e7516bd38e3
DTSTART:20250423T130000Z
SEQUENCE:0
TRANSP:OPAQUE
DTEND:20250423T133000Z
SUMMARY:Ekspert eetris: Jaanus Terasmaa “Üks foto\, suur mõju – kõik
  veed viivad harrastusteaduseni”
CLASS:PUBLIC
DTSTAMP:20260421T132859Z
END:VEVENT
END:VCALENDAR