BEGIN:VCALENDAR
VERSION:2.0
PRODID:www.tlu.ee
X-PUBLISHED-TTL:P1W
BEGIN:VEVENT
UID:69eaa3ae2fa8a
DTSTART:20251008T110000Z
SEQUENCE:0
TRANSP:OPAQUE
DTEND:20251008T140000Z
SUMMARY:Ringbiomajanduse arendusseminar \"Väljakutsetest tegudeni\"
CLASS:PUBLIC
DTSTAMP:20260424T015646Z
END:VEVENT
END:VCALENDAR