BEGIN:VCALENDAR
VERSION:2.0
PRODID:www.tlu.ee
X-PUBLISHED-TTL:P1W
BEGIN:VEVENT
UID:69e73a1293935
DTSTART:20251004T090000Z
SEQUENCE:0
TRANSP:OPAQUE
DTEND:20251007T090000Z
SUMMARY:6th Baltic Sea Conference on Literacy: Literacy Environment - Envir
 onmental literacy
CLASS:PUBLIC
DTSTAMP:20260421T114922Z
END:VEVENT
END:VCALENDAR