BEGIN:VCALENDAR
VERSION:2.0
PRODID:www.tlu.ee
X-PUBLISHED-TTL:P1W
BEGIN:VEVENT
UID:69e765f1d0381
DTSTART:20251211T140000Z
SEQUENCE:0
TRANSP:OPAQUE
DTEND:20251211T153000Z
SUMMARY:Discussion with Palestinian Writers Hazem Jamjoum and Heba Hayek: \
 "Does the Word Still Have Power in Our World?\"
CLASS:PUBLIC
DTSTAMP:20260421T145633Z
END:VEVENT
END:VCALENDAR