BEGIN:VCALENDAR
VERSION:2.0
PRODID:www.tlu.ee
X-PUBLISHED-TTL:P1W
BEGIN:VEVENT
UID:69e75022347d8
DTSTART:20260423T100000Z
SEQUENCE:0
TRANSP:OPAQUE
DTEND:20260423T150000Z
SUMMARY:Missioonikonverents „Kaks Eestit 25 aastat hiljem: mis meid vasta
 ndumiste ajastul ühendaks. Kolm isamaavaidlust“
CLASS:PUBLIC
DTSTAMP:20260421T132330Z
END:VEVENT
END:VCALENDAR