BEGIN:VCALENDAR
VERSION:2.0
PRODID:www.tlu.ee
X-PUBLISHED-TTL:P1W
BEGIN:VEVENT
UID:69eb946286330
DTSTART:20260508T133000Z
SEQUENCE:0
TRANSP:OPAQUE
DTEND:20260508T150000Z
SUMMARY:SOGOLAS' Research Seminar: Children Affected by Armed Conflict in t
 he Jurisprudence of the European Court of Human Rights
CLASS:PUBLIC
DTSTAMP:20260424T190346Z
END:VEVENT
END:VCALENDAR