BEGIN:VCALENDAR
VERSION:2.0
PRODID:www.tlu.ee
X-PUBLISHED-TTL:P1W
BEGIN:VEVENT
UID:69e754b149671
DTSTART:20260527T160000Z
SEQUENCE:0
TRANSP:OPAQUE
DTEND:20260527T183000Z
SUMMARY:Koreograafia MA lõpulavastus: Kristina Paškeviciuse \"Maarja tõm
 bas Tinderi\"
CLASS:PUBLIC
DTSTAMP:20260421T134257Z
END:VEVENT
END:VCALENDAR