BEGIN:VCALENDAR
VERSION:2.0
PRODID:www.tlu.ee
X-PUBLISHED-TTL:P1W
BEGIN:VEVENT
UID:69e75021ce8f7
DTSTART:20260515T090000Z
SEQUENCE:0
TRANSP:OPAQUE
DTEND:20260515T120000Z
SUMMARY:Digitehnoloogiate instituudi doktorandi Abdallah Hussein Shami dokt
 oritöö kaitsmine
CLASS:PUBLIC
DTSTAMP:20260421T132329Z
END:VEVENT
END:VCALENDAR