BEGIN:VCALENDAR
VERSION:2.0
PRODID:www.tlu.ee
X-PUBLISHED-TTL:P1W
BEGIN:VEVENT
UID:69e67a82ceccd
DTSTART:20260429T130000Z
SEQUENCE:0
TRANSP:OPAQUE
DTEND:20260429T143000Z
SUMMARY:Uurimisseminar: \"Kinolevi statistika uurimise alusbaasid viimasel 
 kümnendil\"
CLASS:PUBLIC
DTSTAMP:20260420T221202Z
END:VEVENT
END:VCALENDAR