BEGIN:VCALENDAR
VERSION:2.0
PRODID:www.tlu.ee
X-PUBLISHED-TTL:P1W
BEGIN:VEVENT
UID:69e9da70646dc
DTSTART:20260428T150000Z
SEQUENCE:0
TRANSP:OPAQUE
DTEND:20260428T161500Z
SUMMARY:EESTI FILM: \"Libahunt\" (1968)
CLASS:PUBLIC
DTSTAMP:20260423T113808Z
END:VEVENT
END:VCALENDAR