BEGIN:VCALENDAR
VERSION:2.0
PRODID:www.tlu.ee
X-PUBLISHED-TTL:P1W
BEGIN:VEVENT
UID:69e9da6fd93b1
DTSTART:20260429T150000Z
SEQUENCE:0
TRANSP:OPAQUE
DTEND:20260429T171500Z
SUMMARY:Lux Publikuauhinna nomiment: \"Armasta mind õrnalt\" (2025)
CLASS:PUBLIC
DTSTAMP:20260423T113807Z
END:VEVENT
END:VCALENDAR