BEGIN:VCALENDAR
VERSION:2.0
PRODID:www.tlu.ee
X-PUBLISHED-TTL:P1W
BEGIN:VEVENT
UID:69e9de0b65300
DTSTART:20260430T150000Z
SEQUENCE:0
TRANSP:OPAQUE
DTEND:20260430T171500Z
SUMMARY:Lux Publikuauhinna nomiment: \"Sentimentaalne väärtus\" (2025)
CLASS:PUBLIC
DTSTAMP:20260423T115331Z
END:VEVENT
END:VCALENDAR