BEGIN:VCALENDAR
VERSION:2.0
PRODID:www.tlu.ee
X-PUBLISHED-TTL:P1W
BEGIN:VEVENT
UID:69e9da701b6e9
DTSTART:20260430T160000Z
SEQUENCE:0
TRANSP:OPAQUE
DTEND:20260430T170000Z
SUMMARY:KorFest BA lõpufilmid: Elina Ojasaar ja Annabel Vinnal
CLASS:PUBLIC
DTSTAMP:20260423T113808Z
END:VEVENT
END:VCALENDAR