BEGIN:VCALENDAR
VERSION:2.0
PRODID:www.tlu.ee
X-PUBLISHED-TTL:P1W
BEGIN:VEVENT
UID:69eaf0d62a1dd
DTSTART:20260501T140000Z
SEQUENCE:0
TRANSP:OPAQUE
DTEND:20260501T150059Z
SUMMARY:KorFest BA lõpufilmid: Elina Ojasaar ja Annabel Vinnal
CLASS:PUBLIC
DTSTAMP:20260424T072558Z
END:VEVENT
END:VCALENDAR