BEGIN:VCALENDAR
VERSION:2.0
PRODID:www.tlu.ee
X-PUBLISHED-TTL:P1W
BEGIN:VEVENT
UID:69eb9de4bdee0
DTSTART:20260429T150000Z
SEQUENCE:0
TRANSP:OPAQUE
DTEND:20260429T160000Z
SUMMARY:KorFest Weekend: II kursuse tantsukompositsioonid
CLASS:PUBLIC
DTSTAMP:20260424T194420Z
END:VEVENT
END:VCALENDAR