BEGIN:VCALENDAR
VERSION:2.0
PRODID:www.tlu.ee
X-PUBLISHED-TTL:P1W
BEGIN:VEVENT
UID:69eb98c8cea88
DTSTART:20260429T110000Z
SEQUENCE:0
TRANSP:OPAQUE
DTEND:20260429T120000Z
SUMMARY:Guest Lecture: Norway’s Foreign Minister Espen Barth Eide at Tall
 inn University
CLASS:PUBLIC
DTSTAMP:20260424T192232Z
END:VEVENT
END:VCALENDAR