BEGIN:VCALENDAR
VERSION:2.0
PRODID:www.tlu.ee
X-PUBLISHED-TTL:P1W
BEGIN:VEVENT
UID:69e765de9112b
DTSTART:20061115T120000Z
SEQUENCE:0
TRANSP:OPAQUE
DTEND:20061115T120000Z
SUMMARY:TLÜ Keskaja Keskuse seminar: Tiina Kala \"Allikaeditsiooni vooruse
 d ja puudused – ja nende mõju Eesti
CLASS:PUBLIC
DTSTAMP:20260421T145614Z
END:VEVENT
END:VCALENDAR