BEGIN:VCALENDAR
VERSION:2.0
PRODID:www.tlu.ee
X-PUBLISHED-TTL:P1W
BEGIN:VEVENT
UID:69ea3f3bb3323
DTSTART:20071115T120000Z
SEQUENCE:0
TRANSP:OPAQUE
DTEND:20071115T120000Z
SUMMARY:Jacques Lassalle’i avatud loeng kaasaegsest prantsuse teatrist
CLASS:PUBLIC
DTSTAMP:20260423T184811Z
END:VEVENT
END:VCALENDAR