BEGIN:VCALENDAR
VERSION:2.0
PRODID:www.tlu.ee
X-PUBLISHED-TTL:P1W
BEGIN:VEVENT
UID:69e6357a5ae91
DTSTART:20090910T120000Z
SEQUENCE:0
TRANSP:OPAQUE
DTEND:20090910T120000Z
SUMMARY:Ülikooli päev Akadeemilises Raamatukogus
CLASS:PUBLIC
DTSTAMP:20260420T171730Z
END:VEVENT
END:VCALENDAR