BEGIN:VCALENDAR
VERSION:2.0
PRODID:www.tlu.ee
X-PUBLISHED-TTL:P1W
BEGIN:VEVENT
UID:69ecea4641b57
DTSTART:20101008T120000Z
SEQUENCE:0
TRANSP:OPAQUE
DTEND:20101008T120000Z
SUMMARY:Ümarlaud: Eesti-Gruusia koostöö hariduses ja teaduses
CLASS:PUBLIC
DTSTAMP:20260425T192230Z
END:VEVENT
END:VCALENDAR