BEGIN:VCALENDAR
VERSION:2.0
PRODID:www.tlu.ee
X-PUBLISHED-TTL:P1W
BEGIN:VEVENT
UID:69ea38ba2e9a6
DTSTART:20160301T060000Z
SEQUENCE:0
TRANSP:OPAQUE
DTEND:20160301T080000Z
SUMMARY:Kino: Stig Björkmani dokumentaalfilm \"Ingrid Bergman: oma sõnade
 ga\"(2015)
CLASS:PUBLIC
DTSTAMP:20260423T182026Z
END:VEVENT
END:VCALENDAR