BEGIN:VCALENDAR
VERSION:2.0
PRODID:www.tlu.ee
X-PUBLISHED-TTL:P1W
BEGIN:VEVENT
UID:69e8f7c52076b
DTSTART:20160927T060000Z
SEQUENCE:0
TRANSP:OPAQUE
DTEND:20160927T080000Z
SUMMARY:Kino: Melanhoolia                                                  
              
CLASS:PUBLIC
DTSTAMP:20260422T193101Z
END:VEVENT
END:VCALENDAR