BEGIN:VCALENDAR
VERSION:2.0
PRODID:www.tlu.ee
X-PUBLISHED-TTL:P1W
BEGIN:VEVENT
UID:69e7513c1c924
DTSTART:20171027T100000Z
SEQUENCE:0
TRANSP:OPAQUE
DTEND:20171027T070000Z
SUMMARY:Klassiõpetaja eriala juubelikonverents                            
               
CLASS:PUBLIC
DTSTAMP:20260421T132812Z
END:VEVENT
END:VCALENDAR