BEGIN:VCALENDAR
VERSION:2.0
PRODID:www.tlu.ee
X-PUBLISHED-TTL:P1W
BEGIN:VEVENT
UID:69e7514e4c973
DTSTART:20180926T070000Z
SEQUENCE:0
TRANSP:OPAQUE
DTEND:20180926T080000Z
SUMMARY:Teadlaste Öö Festivali plagiaaditeemaline loeng
CLASS:PUBLIC
DTSTAMP:20260421T132830Z
END:VEVENT
END:VCALENDAR