BEGIN:VCALENDAR
VERSION:2.0
PRODID:www.tlu.ee
X-PUBLISHED-TTL:P1W
BEGIN:VEVENT
UID:69e755f517f50
DTSTART:20180926T100000Z
SEQUENCE:0
TRANSP:OPAQUE
DTEND:20180926T134500Z
SUMMARY:Teadlaste Öö Festivali inimluude uurimise ning hiliskeskaegsete l
 eidude töötuba
CLASS:PUBLIC
DTSTAMP:20260421T134821Z
END:VEVENT
END:VCALENDAR