BEGIN:VCALENDAR
VERSION:2.0
PRODID:www.tlu.ee
X-PUBLISHED-TTL:P1W
BEGIN:VEVENT
UID:69e756161db1a
DTSTART:20180924T110000Z
SEQUENCE:0
TRANSP:OPAQUE
DTEND:20180924T130000Z
SUMMARY:Teadlaste Öö Festivali vanaraamatu keskuse muuseumitoa ning digit
 eerimiskeskuse ekskursioon
CLASS:PUBLIC
DTSTAMP:20260421T134854Z
END:VEVENT
END:VCALENDAR