BEGIN:VCALENDAR
VERSION:2.0
PRODID:www.tlu.ee
X-PUBLISHED-TTL:P1W
BEGIN:VEVENT
UID:69e75615a2653
DTSTART:20180927T110000Z
SEQUENCE:0
TRANSP:OPAQUE
DTEND:20180927T130000Z
SUMMARY:Teadlaste Öö festivali meeleolukas põlvkondadevaheline mälumän
 g \"Tean ja ei tunne\" 
CLASS:PUBLIC
DTSTAMP:20260421T134853Z
END:VEVENT
END:VCALENDAR