BEGIN:VCALENDAR
VERSION:2.0
PRODID:www.tlu.ee
X-PUBLISHED-TTL:P1W
BEGIN:VEVENT
UID:69e7514e82c2b
DTSTART:20180924T073000Z
SEQUENCE:0
TRANSP:OPAQUE
DTEND:20180924T103000Z
SUMMARY:Rännak läbi 100 aasta koolielu TLÜ Eesti pedagoogika arhiivmuuse
 umis
CLASS:PUBLIC
DTSTAMP:20260421T132830Z
END:VEVENT
END:VCALENDAR