BEGIN:VCALENDAR
VERSION:2.0
PRODID:www.tlu.ee
X-PUBLISHED-TTL:P1W
BEGIN:VEVENT
UID:69e765f40cb41
DTSTART:20180926T120000Z
SEQUENCE:0
TRANSP:OPAQUE
DTEND:20180926T133000Z
SUMMARY:Raamatu „Eesti hariduse 100 aastat“ esitlus TLÜ teadusnädalal
CLASS:PUBLIC
DTSTAMP:20260421T145636Z
END:VEVENT
END:VCALENDAR