BEGIN:VCALENDAR
VERSION:2.0
PRODID:www.tlu.ee
X-PUBLISHED-TTL:P1W
BEGIN:VEVENT
UID:69e755f550a64
DTSTART:20180927T080000Z
SEQUENCE:0
TRANSP:OPAQUE
DTEND:20180927T130000Z
SUMMARY:Teadlaste Öö festivali konverents \"Tuleviku katsumused/võimalus
 ed\"
CLASS:PUBLIC
DTSTAMP:20260421T134821Z
END:VEVENT
END:VCALENDAR