BEGIN:VCALENDAR
VERSION:2.0
PRODID:www.tlu.ee
X-PUBLISHED-TTL:P1W
BEGIN:VEVENT
UID:69eaacaa97bb5
DTSTART:20181105T130000Z
SEQUENCE:0
TRANSP:OPAQUE
DTEND:20181105T151500Z
SUMMARY:Kuidas toetada ja arendada praktikajuhendaja pädevust töökohapõ
 hises õppes?
CLASS:PUBLIC
DTSTAMP:20260424T023506Z
END:VEVENT
END:VCALENDAR